BEGIN:VCALENDAR
VERSION:2.0
PRODID:-//Cowichan Intercultural Society - ECPv6.15.18//NONSGML v1.0//EN
CALSCALE:GREGORIAN
METHOD:PUBLISH
X-WR-CALNAME:Cowichan Intercultural Society
X-ORIGINAL-URL:https://www.cowichanintercultural.org
X-WR-CALDESC:Events for Cowichan Intercultural Society
REFRESH-INTERVAL;VALUE=DURATION:PT1H
X-Robots-Tag:noindex
X-PUBLISHED-TTL:PT1H
BEGIN:VTIMEZONE
TZID:America/Vancouver
BEGIN:DAYLIGHT
TZOFFSETFROM:-0800
TZOFFSETTO:-0700
TZNAME:PDT
DTSTART:20230312T100000
END:DAYLIGHT
BEGIN:STANDARD
TZOFFSETFROM:-0700
TZOFFSETTO:-0800
TZNAME:PST
DTSTART:20231105T090000
END:STANDARD
BEGIN:DAYLIGHT
TZOFFSETFROM:-0800
TZOFFSETTO:-0700
TZNAME:PDT
DTSTART:20240310T100000
END:DAYLIGHT
BEGIN:STANDARD
TZOFFSETFROM:-0700
TZOFFSETTO:-0800
TZNAME:PST
DTSTART:20241103T090000
END:STANDARD
BEGIN:DAYLIGHT
TZOFFSETFROM:-0800
TZOFFSETTO:-0700
TZNAME:PDT
DTSTART:20250309T100000
END:DAYLIGHT
BEGIN:STANDARD
TZOFFSETFROM:-0700
TZOFFSETTO:-0800
TZNAME:PST
DTSTART:20251102T090000
END:STANDARD
END:VTIMEZONE
BEGIN:VEVENT
DTSTART;TZID=America/Vancouver:20240214T103000
DTEND;TZID=America/Vancouver:20240214T143000
DTSTAMP:20260425T160321
CREATED:20240214T193431Z
LAST-MODIFIED:20240214T193431Z
UID:2946-1707906600-1707921000@www.cowichanintercultural.org
SUMMARY:Youth Action Day
DESCRIPTION:
URL:https://www.cowichanintercultural.org/event/youth-action-day-3/
LOCATION:Cowichan Secondary School\, 2652 James St\, Duncan\, British Columbia\, V9L 2X2\, Canada
ATTACH;FMTTYPE=application/pdf:https://www.cowichanintercultural.org/wp-content/uploads/2024/02/Youth-Action-day-POSTER-1-1.pdf
END:VEVENT
END:VCALENDAR