BEGIN:VCALENDAR
VERSION:2.0
PRODID:-//Cowichan Intercultural Society - ECPv6.15.18//NONSGML v1.0//EN
CALSCALE:GREGORIAN
METHOD:PUBLISH
X-ORIGINAL-URL:https://www.cowichanintercultural.org
X-WR-CALDESC:Events for Cowichan Intercultural Society
REFRESH-INTERVAL;VALUE=DURATION:PT1H
X-Robots-Tag:noindex
X-PUBLISHED-TTL:PT1H
BEGIN:VTIMEZONE
TZID:America/Vancouver
BEGIN:DAYLIGHT
TZOFFSETFROM:-0800
TZOFFSETTO:-0700
TZNAME:PDT
DTSTART:20220313T100000
END:DAYLIGHT
BEGIN:STANDARD
TZOFFSETFROM:-0700
TZOFFSETTO:-0800
TZNAME:PST
DTSTART:20221106T090000
END:STANDARD
BEGIN:DAYLIGHT
TZOFFSETFROM:-0800
TZOFFSETTO:-0700
TZNAME:PDT
DTSTART:20230312T100000
END:DAYLIGHT
BEGIN:STANDARD
TZOFFSETFROM:-0700
TZOFFSETTO:-0800
TZNAME:PST
DTSTART:20231105T090000
END:STANDARD
BEGIN:DAYLIGHT
TZOFFSETFROM:-0800
TZOFFSETTO:-0700
TZNAME:PDT
DTSTART:20240310T100000
END:DAYLIGHT
BEGIN:STANDARD
TZOFFSETFROM:-0700
TZOFFSETTO:-0800
TZNAME:PST
DTSTART:20241103T090000
END:STANDARD
END:VTIMEZONE
BEGIN:VEVENT
DTSTART;TZID=America/Vancouver:20230503T183000
DTEND;TZID=America/Vancouver:20230503T193000
DTSTAMP:20260422T111337
CREATED:20230414T035407Z
LAST-MODIFIED:20230414T035407Z
UID:1370-1683138600-1683142200@www.cowichanintercultural.org
SUMMARY:Start Your Own Business in Canada - May 2023
DESCRIPTION:
URL:https://www.cowichanintercultural.org/event/start-your-own-business-in-canada-may-2023/
LOCATION:Cowichan Intercultural Society\, 321 St Julien St.\, Duncan\, British Columbia\, V9L 3S5\, Canada
CATEGORIES:Employment/Business
ATTACH;FMTTYPE=image/png:https://www.cowichanintercultural.org/wp-content/uploads/2023/04/May-3-1-e1681419133154.png
END:VEVENT
BEGIN:VEVENT
DTSTART;TZID=America/Vancouver:20230329T130000
DTEND;TZID=America/Vancouver:20230329T140000
DTSTAMP:20260422T111337
CREATED:20230324T070236Z
LAST-MODIFIED:20230324T070236Z
UID:1314-1680094800-1680098400@www.cowichanintercultural.org
SUMMARY:Employment Rights for Temporary Foreign Workers
DESCRIPTION:
URL:https://www.cowichanintercultural.org/event/employment-rights-for-temporary-foreign-workers/
LOCATION:Zoom
CATEGORIES:Employment/Business
END:VEVENT
BEGIN:VEVENT
DTSTART;TZID=America/Vancouver:20230327T103000
DTEND;TZID=America/Vancouver:20230327T120000
DTSTAMP:20260422T111337
CREATED:20230315T104619Z
LAST-MODIFIED:20230318T063312Z
UID:1280-1679913000-1679918400@www.cowichanintercultural.org
SUMMARY:Newcomers' Guide in the Canadian Workplace
DESCRIPTION:
URL:https://www.cowichanintercultural.org/event/newcomers-guide-in-the-canadian-workplace/
LOCATION:Cowichan Intercultural Society\, 321 St Julien St.\, Duncan\, British Columbia\, V9L 3S5\, Canada
CATEGORIES:Employment/Business
END:VEVENT
BEGIN:VEVENT
DTSTART;TZID=America/Vancouver:20230320T103000
DTEND;TZID=America/Vancouver:20230320T111500
DTSTAMP:20260422T111337
CREATED:20230315T104244Z
LAST-MODIFIED:20230316T060511Z
UID:1278-1679308200-1679310900@www.cowichanintercultural.org
SUMMARY:Employment Workshop
DESCRIPTION:
URL:https://www.cowichanintercultural.org/event/employment-workshop-2/
LOCATION:Cowichan Intercultural Society\, 321 St Julien St.\, Duncan\, British Columbia\, V9L 3S5\, Canada
CATEGORIES:Employment/Business
END:VEVENT
BEGIN:VEVENT
DTSTART;TZID=America/Vancouver:20230315T183000
DTEND;TZID=America/Vancouver:20230315T193000
DTSTAMP:20260422T111337
CREATED:20230302T154633Z
LAST-MODIFIED:20230302T154633Z
UID:1206-1678905000-1678908600@www.cowichanintercultural.org
SUMMARY:Start Your Own Business in Canada - March 15
DESCRIPTION:
URL:https://www.cowichanintercultural.org/event/start-your-own-business-in-canada-march-15/
LOCATION:Cowichan Intercultural Society\, 321 St Julien St.\, Duncan\, British Columbia\, V9L 3S5\, Canada
CATEGORIES:Employment/Business
ATTACH;FMTTYPE=image/png:https://www.cowichanintercultural.org/wp-content/uploads/2023/03/March-15-e1677742937246.png
END:VEVENT
BEGIN:VEVENT
DTSTART;TZID=America/Vancouver:20230215T183000
DTEND;TZID=America/Vancouver:20230215T193000
DTSTAMP:20260422T111337
CREATED:20230206T150032Z
LAST-MODIFIED:20230213T051202Z
UID:1126-1676485800-1676489400@www.cowichanintercultural.org
SUMMARY:Start Your Own Business in Canada - Feb 15
DESCRIPTION:
URL:https://www.cowichanintercultural.org/event/start-your-own-business-in-canada-feb-15/
LOCATION:Cowichan Intercultural Society\, 321 St Julien St.\, Duncan\, British Columbia\, V9L 3S5\, Canada
CATEGORIES:Cowichan Intercultural Society,Employment/Business
ATTACH;FMTTYPE=image/png:https://www.cowichanintercultural.org/wp-content/uploads/2023/02/Feb15c-1.png
END:VEVENT
BEGIN:VEVENT
DTSTART;TZID=America/Vancouver:20230118T183000
DTEND;TZID=America/Vancouver:20230118T193000
DTSTAMP:20260422T111337
CREATED:20221122T095001Z
LAST-MODIFIED:20221224T051650Z
UID:740-1674066600-1674070200@www.cowichanintercultural.org
SUMMARY:Start Your Own Business in Canada
DESCRIPTION:
URL:https://www.cowichanintercultural.org/event/start-your-own-business-in-canada/
LOCATION:British Columbia
CATEGORIES:Employment/Business
ATTACH;FMTTYPE=image/png:https://www.cowichanintercultural.org/wp-content/uploads/2022/12/Jan18-1-e1671830203336.png
END:VEVENT
END:VCALENDAR